BEGIN:VCALENDAR
VERSION:2.0
PRODID:DPCALENDAR
CALSCALE:GREGORIAN
BEGIN:VTIMEZONE
TZID:America/Los_Angeles
X-MICROSOFT-CDO-TZID:13
BEGIN:STANDARD
DTSTART:20251102T090000
TZOFFSETFROM:-0700
TZOFFSETTO:-0800
TZNAME:PST
END:STANDARD
BEGIN:DAYLIGHT
DTSTART:20260308T100000
TZOFFSETFROM:-0800
TZOFFSETTO:-0700
TZNAME:PDT
END:DAYLIGHT
BEGIN:STANDARD
DTSTART:20261101T090000
TZOFFSETFROM:-0700
TZOFFSETTO:-0800
TZNAME:PST
END:STANDARD
END:VTIMEZONE
X-WR-TIMEZONE:America/Los_Angeles
BEGIN:VEVENT
DTSTART;TZID=America/Los_Angeles:20260422T153000
DTEND;TZID=America/Los_Angeles:20260422T180000
UID:3CE418E4-9498-4010-8882-7C1FBAB4FE76
SUMMARY:Plant & Sip
DTSTAMP:20251215T213057Z
DESCRIPTION:\NGet your hands dirty at our free terrarium building station! Create your own miniature ecosystem to take home. All materials are provided. It’s the perfect way to bring a little slice of green tranquility to your dorm or apartment. We'll be serving earth elixirs featuring fresh, vibrant ingredients inspired by the colors and flavors of the planet. Light snacks will be provided and participants be have a chance to win big with an opportunity drawing.\N\NReserve your space on the SRWC GO app.\N
X-ALT-DESC;FMTTYPE=text/html:<p>Get your hands dirty at our free terrarium building station! Create your own miniature ecosystem to take home. All materials are provided. It’s the perfect way to bring a little slice of green tranquility to your dorm or apartment. We'll be serving earth elixirs featuring fresh, vibrant ingredients inspired by the colors and flavors of the planet. Light snacks will be provided and participants be have a chance to win big with an opportunity drawing.</p><p>Reserve your space on the SRWC GO app.</p>
LOCATION:
GEO:0.00000000;0.00000000
LAST-MODIFIED:20260310T174022Z
X-ACCESS:1
X-HITS:66
X-URL:
X-COLOR:9F45B0
END:VEVENT
END:VCALENDAR