BEGIN:VCALENDAR
VERSION:2.0
PRODID:DPCALENDAR
CALSCALE:GREGORIAN
BEGIN:VTIMEZONE
TZID:America/Los_Angeles
X-MICROSOFT-CDO-TZID:13
BEGIN:STANDARD
DTSTART:20251102T090000
TZOFFSETFROM:-0700
TZOFFSETTO:-0800
TZNAME:PST
END:STANDARD
BEGIN:DAYLIGHT
DTSTART:20260308T100000
TZOFFSETFROM:-0800
TZOFFSETTO:-0700
TZNAME:PDT
END:DAYLIGHT
BEGIN:STANDARD
DTSTART:20261101T090000
TZOFFSETFROM:-0700
TZOFFSETTO:-0800
TZNAME:PST
END:STANDARD
END:VTIMEZONE
X-WR-TIMEZONE:America/Los_Angeles
BEGIN:VEVENT
DTSTART;TZID=America/Los_Angeles:20260425T120000
DTEND;TZID=America/Los_Angeles:20260425T163000
UID:85AB242A-BC2F-4892-BB80-03E52885993C
SUMMARY:Local Gems: Rancho Los Alamitos Historic Ranch & Gardens
DTSTAMP:20260413T195538Z
DESCRIPTION:              \N                Explore one of Long Beach’s most significant historic landmarks, featuring a preserved ranch house and beautifully maintained gardens that reflect California’s layered cultural history.  For $10, enjoy a guided tour of the historic ranch house, time to explore the gardens at your own pace and a relaxing afternoon outdoors. Lunch will be provided.\N              
X-ALT-DESC;FMTTYPE=text/html:              <p>                Explore one of Long Beach’s most significant historic landmarks, featuring a preserved ranch house and beautifully maintained gardens that reflect California’s layered cultural history.  For $10, enjoy a guided tour of the historic ranch house, time to explore the gardens at your own pace and a relaxing afternoon outdoors. Lunch will be provided.              </p>
LOCATION:
GEO:0.00000000;0.00000000
X-ACCESS:1
X-HITS:32
X-URL:
X-COLOR:9F45B0
END:VEVENT
END:VCALENDAR